BEGIN:VCALENDAR
VERSION:2.0
PRODID:-//jEvents 2.0 for Joomla//EN
CALSCALE:GREGORIAN
METHOD:PUBLISH
BEGIN:VTIMEZONE
TZID:Europe/Berlin
END:VTIMEZONE
BEGIN:VEVENT
UID:5b0591e66d0fb00b56d8807ec5906d60
CATEGORIES:Veranstaltungen
CREATED:20220412T092852
SUMMARY:Waiting Room Jazzband
DESCRIPTION:Campingplatz Eulenburg\n
X-ALT-DESC;FMTTYPE=text/html:<p>Campingplatz Eulenburg</p>
DTSTAMP:20260421T053914
DTSTART;TZID=Europe/Berlin:20220820T180000
SEQUENCE:0
TRANSP:OPAQUE
END:VEVENT
END:VCALENDAR