BEGIN:VCALENDAR
VERSION:2.0
PRODID:-//jEvents 2.0 for Joomla//EN
CALSCALE:GREGORIAN
METHOD:PUBLISH
BEGIN:VTIMEZONE
TZID:Europe/Berlin
END:VTIMEZONE
BEGIN:VEVENT
UID:9daa137209198db0376a4ea20a239678
CATEGORIES:Veranstaltungen
CREATED:20260108T154444
SUMMARY:Till Seidel & Andreas Arlt and Friends
DESCRIPTION:Blues und Rock 'n' Roll\n
X-ALT-DESC;FMTTYPE=text/html:<p>Blues und Rock 'n' Roll</p>
DTSTAMP:20260424T002530
DTSTART;TZID=Europe/Berlin:20261227T190000
SEQUENCE:0
TRANSP:OPAQUE
END:VEVENT
END:VCALENDAR