BEGIN:VCALENDAR
VERSION:2.0
PRODID:-//jEvents 2.0 for Joomla//EN
CALSCALE:GREGORIAN
METHOD:PUBLISH
BEGIN:VTIMEZONE
TZID:Europe/Berlin
END:VTIMEZONE
BEGIN:VEVENT
UID:7bee6751f3f639a2e1e345d40346cc6f
CATEGORIES:Veranstaltungen
CREATED:20260108T153942
SUMMARY:New Orleans Shakers
DESCRIPTION:Jazz\n
X-ALT-DESC;FMTTYPE=text/html:<p>Jazz</p>
DTSTAMP:20260424T002530
DTSTART;TZID=Europe/Berlin:20261030T190000
SEQUENCE:0
TRANSP:OPAQUE
END:VEVENT
END:VCALENDAR