BEGIN:VCALENDAR
VERSION:2.0
PRODID:-//jEvents 2.0 for Joomla//EN
CALSCALE:GREGORIAN
METHOD:PUBLISH
BEGIN:VTIMEZONE
TZID:Europe/Berlin
END:VTIMEZONE
BEGIN:VEVENT
UID:0202c3d73dbb478dcb52d7a1d4769993
CATEGORIES:Veranstaltungen
CREATED:20260108T153519
SUMMARY:Duo Fortezza
DESCRIPTION:
DTSTAMP:20260424T003034
DTSTART;TZID=Europe/Berlin:20260912T170000
SEQUENCE:0
TRANSP:OPAQUE
END:VEVENT
END:VCALENDAR