BEGIN:VCALENDAR
VERSION:2.0
PRODID:-//jEvents 2.0 for Joomla//EN
CALSCALE:GREGORIAN
METHOD:PUBLISH
BEGIN:VTIMEZONE
TZID:Europe/Berlin
END:VTIMEZONE
BEGIN:VEVENT
UID:96828121ef3e7d2356e5a235816b5d6d
CATEGORIES:Veranstaltungen
CREATED:20260108T152803
SUMMARY:Gregor Killian & his Allstar Band
DESCRIPTION:<p>Swing</p>
DTSTAMP:20260423T224341
DTSTART;TZID=Europe/Berlin:20260417T190000
SEQUENCE:0
TRANSP:OPAQUE
END:VEVENT
END:VCALENDAR